BEGIN:VCALENDAR
VERSION:2.0
PRODID:-//NADI Parit Sapran - ECPv6.15.20//NONSGML v1.0//EN
CALSCALE:GREGORIAN
METHOD:PUBLISH
X-WR-CALNAME:NADI Parit Sapran
X-ORIGINAL-URL:https://paritsapran.nadi.my
X-WR-CALDESC:Events for NADI Parit Sapran
REFRESH-INTERVAL;VALUE=DURATION:PT1H
X-Robots-Tag:noindex
X-PUBLISHED-TTL:PT1H
BEGIN:VTIMEZONE
TZID:Asia/Kuala_Lumpur
BEGIN:STANDARD
TZOFFSETFROM:+0800
TZOFFSETTO:+0800
TZNAME:+08
DTSTART:20240101T000000
END:STANDARD
END:VTIMEZONE
BEGIN:VEVENT
DTSTART;TZID=Asia/Kuala_Lumpur:20251003T090000
DTEND;TZID=Asia/Kuala_Lumpur:20251003T180000
DTSTAMP:20260422T204056
CREATED:20251003T041528Z
LAST-MODIFIED:20251003T041550Z
UID:3225-1759482000-1759514400@paritsapran.nadi.my
SUMMARY:E-SPORTS : AWARENESS CLASES
DESCRIPTION:
URL:https://paritsapran.nadi.my/event/e-sports-awareness-clases/
END:VEVENT
BEGIN:VEVENT
DTSTART;TZID=Asia/Kuala_Lumpur:20251004T100000
DTEND;TZID=Asia/Kuala_Lumpur:20251004T170000
DTSTAMP:20260422T204056
CREATED:20251003T041758Z
LAST-MODIFIED:20251003T041758Z
UID:3229-1759572000-1759597200@paritsapran.nadi.my
SUMMARY:AWARENESS : DEEP FAKE @ AI AND SHOPPING SCAM
DESCRIPTION:
URL:https://paritsapran.nadi.my/event/awareness-deep-fake-ai-and-shopping-scam/
END:VEVENT
BEGIN:VEVENT
DTSTART;TZID=Asia/Kuala_Lumpur:20251005T100000
DTEND;TZID=Asia/Kuala_Lumpur:20251005T180000
DTSTAMP:20260422T204056
CREATED:20251003T041655Z
LAST-MODIFIED:20251003T041655Z
UID:3227-1759658400-1759687200@paritsapran.nadi.my
SUMMARY:DILEA : GUIDANCE TUITION
DESCRIPTION:
URL:https://paritsapran.nadi.my/event/dilea-guidance-tuition/
END:VEVENT
BEGIN:VEVENT
DTSTART;TZID=Asia/Kuala_Lumpur:20251007T100000
DTEND;TZID=Asia/Kuala_Lumpur:20251007T170000
DTSTAMP:20260422T204056
CREATED:20251003T041853Z
LAST-MODIFIED:20251003T041853Z
UID:3231-1759831200-1759856400@paritsapran.nadi.my
SUMMARY:COHORT 6 : WEBINAR PELAN PERNIAGAAN SAYA
DESCRIPTION:
URL:https://paritsapran.nadi.my/event/cohort-6-webinar-pelan-perniagaan-saya/
END:VEVENT
BEGIN:VEVENT
DTSTART;TZID=Asia/Kuala_Lumpur:20251010T093000
DTEND;TZID=Asia/Kuala_Lumpur:20251010T170000
DTSTAMP:20260422T204056
CREATED:20251003T041929Z
LAST-MODIFIED:20251003T041929Z
UID:3233-1760088600-1760115600@paritsapran.nadi.my
SUMMARY:DILEA : OPEN TUITION
DESCRIPTION:
URL:https://paritsapran.nadi.my/event/dilea-open-tuition/
END:VEVENT
END:VCALENDAR