BEGIN:VCALENDAR
VERSION:2.0
PRODID:-//NADI Parit Sapran - ECPv6.15.20//NONSGML v1.0//EN
CALSCALE:GREGORIAN
METHOD:PUBLISH
X-WR-CALNAME:NADI Parit Sapran
X-ORIGINAL-URL:https://paritsapran.nadi.my
X-WR-CALDESC:Events for NADI Parit Sapran
REFRESH-INTERVAL;VALUE=DURATION:PT1H
X-Robots-Tag:noindex
X-PUBLISHED-TTL:PT1H
BEGIN:VTIMEZONE
TZID:UTC
BEGIN:STANDARD
TZOFFSETFROM:+0000
TZOFFSETTO:+0000
TZNAME:UTC
DTSTART:20220101T000000
END:STANDARD
END:VTIMEZONE
BEGIN:VEVENT
DTSTART;TZID=UTC:20240608T110000
DTEND;TZID=UTC:20240608T120000
DTSTAMP:20260424T131518
CREATED:20240531T183204Z
LAST-MODIFIED:20240531T183204Z
UID:2449-1717844400-1717848000@paritsapran.nadi.my
SUMMARY:Stem IOT (Terbuka)
DESCRIPTION:
URL:https://paritsapran.nadi.my/event/stem-iot-terbuka-6/
CATEGORIES:DEFAULT
END:VEVENT
BEGIN:VEVENT
DTSTART;TZID=UTC:20240605T100000
DTEND;TZID=UTC:20240605T110000
DTSTAMP:20260424T131518
CREATED:20240531T183124Z
LAST-MODIFIED:20240531T183124Z
UID:2448-1717581600-1717585200@paritsapran.nadi.my
SUMMARY:Kemahiran Insaniah (Terbuka)
DESCRIPTION:
URL:https://paritsapran.nadi.my/event/kemahiran-insaniah-terbuka-2/
CATEGORIES:DEFAULT
END:VEVENT
BEGIN:VEVENT
DTSTART;TZID=UTC:20240601T090000
DTEND;TZID=UTC:20240601T120000
DTSTAMP:20260424T131518
CREATED:20240531T183042Z
LAST-MODIFIED:20240531T183042Z
UID:2447-1717232400-1717243200@paritsapran.nadi.my
SUMMARY:E-Pembelajaran untuk Sek. Menengah
DESCRIPTION:
URL:https://paritsapran.nadi.my/event/e-pembelajaran-untuk-sek-menengah-3/
CATEGORIES:DEFAULT
END:VEVENT
BEGIN:VEVENT
DTSTART;TZID=UTC:20240523T110000
DTEND;TZID=UTC:20240523T130000
DTSTAMP:20260424T131518
CREATED:20240504T193949Z
LAST-MODIFIED:20240504T193949Z
UID:2446-1716462000-1716469200@paritsapran.nadi.my
SUMMARY:E-Pembelajaran untuk Sek. Rendah
DESCRIPTION:
URL:https://paritsapran.nadi.my/event/e-pembelajaran-untuk-sek-rendah-2/
CATEGORIES:DEFAULT
END:VEVENT
BEGIN:VEVENT
DTSTART;TZID=UTC:20240520T150000
DTEND;TZID=UTC:20240520T170000
DTSTAMP:20260424T131518
CREATED:20240504T193858Z
LAST-MODIFIED:20240504T193858Z
UID:2445-1716217200-1716224400@paritsapran.nadi.my
SUMMARY:Microsoft Office (Terbuka)
DESCRIPTION:
URL:https://paritsapran.nadi.my/event/microsoft-office-terbuka-2/
CATEGORIES:DEFAULT
END:VEVENT
BEGIN:VEVENT
DTSTART;TZID=UTC:20240513T150000
DTEND;TZID=UTC:20240513T170000
DTSTAMP:20260424T131518
CREATED:20240504T193812Z
LAST-MODIFIED:20240504T193812Z
UID:2444-1715612400-1715619600@paritsapran.nadi.my
SUMMARY:Stem IOT (Terbuka)
DESCRIPTION:
URL:https://paritsapran.nadi.my/event/stem-iot-terbuka-5/
CATEGORIES:DEFAULT
END:VEVENT
BEGIN:VEVENT
DTSTART;TZID=UTC:20240505T140000
DTEND;TZID=UTC:20240505T170000
DTSTAMP:20260424T131518
CREATED:20240504T193700Z
LAST-MODIFIED:20240504T193700Z
UID:2443-1714917600-1714928400@paritsapran.nadi.my
SUMMARY:Advokasi bersama Skuad Annur
DESCRIPTION:
URL:https://paritsapran.nadi.my/event/advokasi-bersama-skuad-annur-3/
CATEGORIES:DEFAULT
END:VEVENT
BEGIN:VEVENT
DTSTART;TZID=UTC:20240501T080000
DTEND;TZID=UTC:20240501T170000
DTSTAMP:20260424T131518
CREATED:20240504T193538Z
LAST-MODIFIED:20240504T193538Z
UID:2442-1714550400-1714582800@paritsapran.nadi.my
SUMMARY:Advokasi bersama Skuad Annur
DESCRIPTION:
URL:https://paritsapran.nadi.my/event/advokasi-bersama-skuad-annur-2/
CATEGORIES:DEFAULT
END:VEVENT
BEGIN:VEVENT
DTSTART;TZID=UTC:20240430T100000
DTEND;TZID=UTC:20240430T120000
DTSTAMP:20260424T131518
CREATED:20240331T181415Z
LAST-MODIFIED:20240331T181415Z
UID:2441-1714471200-1714478400@paritsapran.nadi.my
SUMMARY:Latihan Keusahawanan (Terbuka)
DESCRIPTION:
URL:https://paritsapran.nadi.my/event/latihan-keusahawanan-terbuka-4/
CATEGORIES:DEFAULT
END:VEVENT
BEGIN:VEVENT
DTSTART;TZID=UTC:20240417T140000
DTEND;TZID=UTC:20240417T170000
DTSTAMP:20260424T131518
CREATED:20240331T181332Z
LAST-MODIFIED:20240331T181332Z
UID:2440-1713362400-1713373200@paritsapran.nadi.my
SUMMARY:Stem IOT (Terbuka)
DESCRIPTION:
URL:https://paritsapran.nadi.my/event/stem-iot-terbuka-4/
CATEGORIES:DEFAULT
END:VEVENT
BEGIN:VEVENT
DTSTART;TZID=UTC:20240409T100000
DTEND;TZID=UTC:20240409T120000
DTSTAMP:20260424T131518
CREATED:20240331T181244Z
LAST-MODIFIED:20240331T181244Z
UID:2439-1712656800-1712664000@paritsapran.nadi.my
SUMMARY:Kemahiran Insaniah (Terbuka)
DESCRIPTION:
URL:https://paritsapran.nadi.my/event/kemahiran-insaniah-terbuka/
CATEGORIES:DEFAULT
END:VEVENT
BEGIN:VEVENT
DTSTART;TZID=UTC:20240404T100000
DTEND;TZID=UTC:20240404T120000
DTSTAMP:20260424T131518
CREATED:20240331T181047Z
LAST-MODIFIED:20240331T181047Z
UID:2438-1712224800-1712232000@paritsapran.nadi.my
SUMMARY:Microsoft Office (Terbuka)
DESCRIPTION:
URL:https://paritsapran.nadi.my/event/microsoft-office-terbuka/
CATEGORIES:DEFAULT
END:VEVENT
BEGIN:VEVENT
DTSTART;TZID=UTC:20240402T100000
DTEND;TZID=UTC:20240402T110000
DTSTAMP:20260424T131518
CREATED:20240331T180853Z
LAST-MODIFIED:20240331T180853Z
UID:2437-1712052000-1712055600@paritsapran.nadi.my
SUMMARY:E-Pembelajaran untuk Sek. Menengah
DESCRIPTION:
URL:https://paritsapran.nadi.my/event/e-pembelajaran-untuk-sek-menengah-2/
CATEGORIES:DEFAULT
END:VEVENT
BEGIN:VEVENT
DTSTART;TZID=UTC:20240322T150000
DTEND;TZID=UTC:20240322T170000
DTSTAMP:20260424T131518
CREATED:20240229T183125Z
LAST-MODIFIED:20240229T183125Z
UID:2436-1711119600-1711126800@paritsapran.nadi.my
SUMMARY:Stem IOT (Terbuka)
DESCRIPTION:
URL:https://paritsapran.nadi.my/event/stem-iot-terbuka-3/
CATEGORIES:DEFAULT
END:VEVENT
BEGIN:VEVENT
DTSTART;TZID=UTC:20240315T150000
DTEND;TZID=UTC:20240315T170000
DTSTAMP:20260424T131518
CREATED:20240229T183042Z
LAST-MODIFIED:20240229T183042Z
UID:2435-1710514800-1710522000@paritsapran.nadi.my
SUMMARY:Canva (Terbuka)
DESCRIPTION:
URL:https://paritsapran.nadi.my/event/canva-terbuka-2/
CATEGORIES:DEFAULT
END:VEVENT
BEGIN:VEVENT
DTSTART;TZID=UTC:20240306T100000
DTEND;TZID=UTC:20240306T110000
DTSTAMP:20260424T131518
CREATED:20240229T182951Z
LAST-MODIFIED:20240229T182951Z
UID:2434-1709719200-1709722800@paritsapran.nadi.my
SUMMARY:Latihan Keusahawanan (Terbuka)
DESCRIPTION:
URL:https://paritsapran.nadi.my/event/latihan-keusahawanan-terbuka-3/
CATEGORIES:DEFAULT
END:VEVENT
BEGIN:VEVENT
DTSTART;TZID=UTC:20240303T083000
DTEND;TZID=UTC:20240303T123000
DTSTAMP:20260424T131518
CREATED:20240229T182835Z
LAST-MODIFIED:20240229T182835Z
UID:2433-1709454600-1709469000@paritsapran.nadi.my
SUMMARY:Mini Program Keusahawanan & Digital
DESCRIPTION:
URL:https://paritsapran.nadi.my/event/mini-program-keusahawanan-digital/
CATEGORIES:DEFAULT
END:VEVENT
BEGIN:VEVENT
DTSTART;TZID=UTC:20240301T093000
DTEND;TZID=UTC:20240301T123000
DTSTAMP:20260424T131518
CREATED:20240229T182656Z
LAST-MODIFIED:20240229T182656Z
UID:2432-1709285400-1709296200@paritsapran.nadi.my
SUMMARY:E-Pembelajaran untuk Sek. Rendah
DESCRIPTION:
URL:https://paritsapran.nadi.my/event/e-pembelajaran-untuk-sek-rendah/
CATEGORIES:DEFAULT
END:VEVENT
BEGIN:VEVENT
DTSTART;TZID=UTC:20240222T110000
DTEND;TZID=UTC:20240222T130000
DTSTAMP:20260424T131518
CREATED:20240131T194442Z
LAST-MODIFIED:20240131T194442Z
UID:2431-1708599600-1708606800@paritsapran.nadi.my
SUMMARY:Advokasi di PKPDK Sinar Bakti
DESCRIPTION:
URL:https://paritsapran.nadi.my/event/advokasi-di-pkpdk-sinar-bakti-2/
CATEGORIES:DEFAULT
END:VEVENT
BEGIN:VEVENT
DTSTART;TZID=UTC:20240214T100000
DTEND;TZID=UTC:20240214T120000
DTSTAMP:20260424T131518
CREATED:20240131T194303Z
LAST-MODIFIED:20240131T194303Z
UID:2430-1707904800-1707912000@paritsapran.nadi.my
SUMMARY:Canva (Terbuka)
DESCRIPTION:
URL:https://paritsapran.nadi.my/event/canva-terbuka/
CATEGORIES:DEFAULT
END:VEVENT
BEGIN:VEVENT
DTSTART;TZID=UTC:20240207T100000
DTEND;TZID=UTC:20240207T110000
DTSTAMP:20260424T131518
CREATED:20240131T194226Z
LAST-MODIFIED:20240131T194226Z
UID:2429-1707300000-1707303600@paritsapran.nadi.my
SUMMARY:Latihan Keusahawanan (Terbuka)
DESCRIPTION:
URL:https://paritsapran.nadi.my/event/latihan-keusahawanan-terbuka-2/
CATEGORIES:DEFAULT
END:VEVENT
BEGIN:VEVENT
DTSTART;TZID=UTC:20240204T150000
DTEND;TZID=UTC:20240204T170000
DTSTAMP:20260424T131518
CREATED:20240131T194118Z
LAST-MODIFIED:20240131T194118Z
UID:2428-1707058800-1707066000@paritsapran.nadi.my
SUMMARY:Stem IOT (Terbuka)
DESCRIPTION:
URL:https://paritsapran.nadi.my/event/stem-iot-terbuka-2/
CATEGORIES:DEFAULT
END:VEVENT
BEGIN:VEVENT
DTSTART;TZID=UTC:20240202T100000
DTEND;TZID=UTC:20240202T130000
DTSTAMP:20260424T131518
CREATED:20240131T193912Z
LAST-MODIFIED:20240131T193912Z
UID:2427-1706868000-1706878800@paritsapran.nadi.my
SUMMARY:Advokasi bersama Skuad Annur
DESCRIPTION:
URL:https://paritsapran.nadi.my/event/advokasi-bersama-skuad-annur/
CATEGORIES:DEFAULT
END:VEVENT
BEGIN:VEVENT
DTSTART;TZID=UTC:20240118T143000
DTEND;TZID=UTC:20240118T173000
DTSTAMP:20260424T131518
CREATED:20231231T200439Z
LAST-MODIFIED:20231231T200439Z
UID:2426-1705588200-1705599000@paritsapran.nadi.my
SUMMARY:Advokasi di PKPDK Sinar Bakti
DESCRIPTION:
URL:https://paritsapran.nadi.my/event/advokasi-di-pkpdk-sinar-bakti/
CATEGORIES:DEFAULT
END:VEVENT
BEGIN:VEVENT
DTSTART;TZID=UTC:20240107T100000
DTEND;TZID=UTC:20240107T110000
DTSTAMP:20260424T131518
CREATED:20231231T200021Z
LAST-MODIFIED:20231231T200021Z
UID:2425-1704621600-1704625200@paritsapran.nadi.my
SUMMARY:Advokasi bersama di kelas latihan keusahawanan
DESCRIPTION:
URL:https://paritsapran.nadi.my/event/advokasi-bersama-di-kelas-latihan-keusahawanan/
CATEGORIES:DEFAULT
END:VEVENT
BEGIN:VEVENT
DTSTART;TZID=UTC:20240106T150000
DTEND;TZID=UTC:20240106T170000
DTSTAMP:20260424T131518
CREATED:20231231T195737Z
LAST-MODIFIED:20231231T195737Z
UID:2424-1704553200-1704560400@paritsapran.nadi.my
SUMMARY:Stem IOT (Terbuka)
DESCRIPTION:
URL:https://paritsapran.nadi.my/event/stem-iot-terbuka/
CATEGORIES:DEFAULT
END:VEVENT
BEGIN:VEVENT
DTSTART;TZID=UTC:20240104T150000
DTEND;TZID=UTC:20240104T170000
DTSTAMP:20260424T131518
CREATED:20231231T195447Z
LAST-MODIFIED:20231231T195447Z
UID:2423-1704380400-1704387600@paritsapran.nadi.my
SUMMARY:Latihan Keusahawanan (Terbuka)
DESCRIPTION:
URL:https://paritsapran.nadi.my/event/latihan-keusahawanan-terbuka/
CATEGORIES:DEFAULT
END:VEVENT
BEGIN:VEVENT
DTSTART;TZID=UTC:20240102T143000
DTEND;TZID=UTC:20240102T173000
DTSTAMP:20260424T131518
CREATED:20231231T194005Z
LAST-MODIFIED:20231231T194005Z
UID:2422-1704205800-1704216600@paritsapran.nadi.my
SUMMARY:E-Pembelajaran untuk Sek. Menengah
DESCRIPTION:
URL:https://paritsapran.nadi.my/event/e-pembelajaran-untuk-sek-menengah/
CATEGORIES:DEFAULT
END:VEVENT
BEGIN:VEVENT
DTSTART;TZID=UTC:20231217T150000
DTEND;TZID=UTC:20231217T170000
DTSTAMP:20260424T131518
CREATED:20231130T200027Z
LAST-MODIFIED:20231130T200027Z
UID:2421-1702825200-1702832400@paritsapran.nadi.my
SUMMARY:Kelas adobe photoshop
DESCRIPTION:
URL:https://paritsapran.nadi.my/event/kelas-adobe-photoshop-10/
CATEGORIES:DEFAULT
END:VEVENT
BEGIN:VEVENT
DTSTART;TZID=UTC:20231214T100000
DTEND;TZID=UTC:20231214T130000
DTSTAMP:20260424T131518
CREATED:20231130T195814Z
LAST-MODIFIED:20231130T195814Z
UID:2420-1702548000-1702558800@paritsapran.nadi.my
SUMMARY:Modul asas keusahawanan IKS
DESCRIPTION:
URL:https://paritsapran.nadi.my/event/modul-asas-keusahawanan-iks/
CATEGORIES:DEFAULT
END:VEVENT
END:VCALENDAR