BEGIN:VCALENDAR
VERSION:2.0
PRODID:-//NADI Parit Sapran - ECPv6.15.20//NONSGML v1.0//EN
CALSCALE:GREGORIAN
METHOD:PUBLISH
X-WR-CALNAME:NADI Parit Sapran
X-ORIGINAL-URL:https://paritsapran.nadi.my
X-WR-CALDESC:Events for NADI Parit Sapran
REFRESH-INTERVAL;VALUE=DURATION:PT1H
X-Robots-Tag:noindex
X-PUBLISHED-TTL:PT1H
BEGIN:VTIMEZONE
TZID:UTC
BEGIN:STANDARD
TZOFFSETFROM:+0000
TZOFFSETTO:+0000
TZNAME:UTC
DTSTART:20240101T000000
END:STANDARD
END:VTIMEZONE
BEGIN:VTIMEZONE
TZID:UTC
BEGIN:STANDARD
TZOFFSETFROM:+0000
TZOFFSETTO:+0000
TZNAME:UTC
DTSTART:20230101T000000
END:STANDARD
END:VTIMEZONE
BEGIN:VEVENT
DTSTART;TZID=UTC:20250207T100000
DTEND;TZID=UTC:20250207T110000
DTSTAMP:20260421T065638
CREATED:20250201T183858Z
LAST-MODIFIED:20250201T183858Z
UID:2622-1738922400-1738926000@paritsapran.nadi.my
SUMMARY:Latihan Keusahawanan (Terbuka)
DESCRIPTION:Latihan Keusahawanan (Terbuka)
URL:https://paritsapran.nadi.my/event/latihan-keusahawanan-terbuka-9/
END:VEVENT
BEGIN:VEVENT
DTSTART;TZID=UTC:20250203T113000
DTEND;TZID=UTC:20250203T123000
DTSTAMP:20260421T065638
CREATED:20250201T183803Z
LAST-MODIFIED:20250201T183803Z
UID:2620-1738582200-1738585800@paritsapran.nadi.my
SUMMARY:E-Pembelajaran untuk Sek. Menengah
DESCRIPTION:
URL:https://paritsapran.nadi.my/event/e-pembelajaran-untuk-sek-menengah-8/
END:VEVENT
BEGIN:VEVENT
DTSTART;TZID=UTC:20250202T100000
DTEND;TZID=UTC:20250202T110000
DTSTAMP:20260421T065638
CREATED:20250201T183642Z
LAST-MODIFIED:20250201T183642Z
UID:2618-1738490400-1738494000@paritsapran.nadi.my
SUMMARY:Microsoft Office (Terbuka)
DESCRIPTION:
URL:https://paritsapran.nadi.my/event/microsoft-office-terbuka-8/
END:VEVENT
BEGIN:VEVENT
DTSTART;TZID=UTC:20250111T080000
DTEND;TZID=UTC:20250111T170000
DTSTAMP:20260421T065638
CREATED:20250102T194712Z
LAST-MODIFIED:20250102T194712Z
UID:2498-1736582400-1736614800@paritsapran.nadi.my
SUMMARY:Microsoft Office (Terbuka)
DESCRIPTION:
URL:https://paritsapran.nadi.my/event/microsoft-office-terbuka-7/
END:VEVENT
BEGIN:VEVENT
DTSTART;TZID=UTC:20250108T080000
DTEND;TZID=UTC:20250108T170000
DTSTAMP:20260421T065638
CREATED:20250102T194556Z
LAST-MODIFIED:20250102T194556Z
UID:2496-1736323200-1736355600@paritsapran.nadi.my
SUMMARY:Canva (Terbuka)
DESCRIPTION:
URL:https://paritsapran.nadi.my/event/canva-terbuka-7/
END:VEVENT
BEGIN:VEVENT
DTSTART;TZID=UTC:20250107T080000
DTEND;TZID=UTC:20250107T130000
DTSTAMP:20260421T065638
CREATED:20250106T175410Z
LAST-MODIFIED:20250106T175613Z
UID:2561-1736236800-1736254800@paritsapran.nadi.my
SUMMARY:Latihan Kelas Portal
DESCRIPTION:Latihan mengaskini portal bersama AM NADI
URL:https://paritsapran.nadi.my/event/latihan-kelas-portal/
END:VEVENT
BEGIN:VEVENT
DTSTART;TZID=UTC:20250105T110000
DTEND;TZID=UTC:20250105T120000
DTSTAMP:20260421T065638
CREATED:20250102T194202Z
LAST-MODIFIED:20250102T194308Z
UID:2493-1736074800-1736078400@paritsapran.nadi.my
SUMMARY:Latihan Keusahawanan (Terbuka)
DESCRIPTION:
URL:https://paritsapran.nadi.my/event/latihan-keusahawanan-terbuka-8/
END:VEVENT
BEGIN:VEVENT
DTSTART;TZID=UTC:20241024T150000
DTEND;TZID=UTC:20241024T170000
DTSTAMP:20260421T065638
CREATED:20241002T175615Z
LAST-MODIFIED:20241002T175615Z
UID:2471-1729782000-1729789200@paritsapran.nadi.my
SUMMARY:Kemahiran Insaniah (Terbuka)
DESCRIPTION:
URL:https://paritsapran.nadi.my/event/kemahiran-insaniah-terbuka-4/
CATEGORIES:DEFAULT
END:VEVENT
BEGIN:VEVENT
DTSTART;TZID=UTC:20241022T150000
DTEND;TZID=UTC:20241022T170000
DTSTAMP:20260421T065638
CREATED:20241002T175549Z
LAST-MODIFIED:20241002T175549Z
UID:2470-1729609200-1729616400@paritsapran.nadi.my
SUMMARY:E-Pembelajaran untuk Sek. Menengah
DESCRIPTION:
URL:https://paritsapran.nadi.my/event/e-pembelajaran-untuk-sek-menengah-7/
CATEGORIES:DEFAULT
END:VEVENT
BEGIN:VEVENT
DTSTART;TZID=UTC:20241017T090000
DTEND;TZID=UTC:20241017T120000
DTSTAMP:20260421T065638
CREATED:20241002T175650Z
LAST-MODIFIED:20241002T175650Z
UID:2472-1729155600-1729166400@paritsapran.nadi.my
SUMMARY:Advokasi di PKPDK Sinar Bakti
DESCRIPTION:
URL:https://paritsapran.nadi.my/event/advokasi-di-pkpdk-sinar-bakti-5/
CATEGORIES:DEFAULT
END:VEVENT
BEGIN:VEVENT
DTSTART;TZID=UTC:20241010T140000
DTEND;TZID=UTC:20241010T170000
DTSTAMP:20260421T065638
CREATED:20241002T175519Z
LAST-MODIFIED:20241002T175519Z
UID:2469-1728568800-1728579600@paritsapran.nadi.my
SUMMARY:Canva (Terbuka)
DESCRIPTION:
URL:https://paritsapran.nadi.my/event/canva-terbuka-6/
CATEGORIES:DEFAULT
END:VEVENT
BEGIN:VEVENT
DTSTART;TZID=UTC:20241006T110000
DTEND;TZID=UTC:20241006T120000
DTSTAMP:20260421T065638
CREATED:20241002T175414Z
LAST-MODIFIED:20241002T175414Z
UID:2468-1728212400-1728216000@paritsapran.nadi.my
SUMMARY:Latihan Keusahawanan (Terbuka)
DESCRIPTION:
URL:https://paritsapran.nadi.my/event/latihan-keusahawanan-terbuka-7/
CATEGORIES:DEFAULT
END:VEVENT
BEGIN:VEVENT
DTSTART;TZID=UTC:20241003T100000
DTEND;TZID=UTC:20241003T110000
DTSTAMP:20260421T065638
CREATED:20241002T175316Z
LAST-MODIFIED:20241002T175316Z
UID:2467-1727949600-1727953200@paritsapran.nadi.my
SUMMARY:Microsoft Office (Terbuka)
DESCRIPTION:
URL:https://paritsapran.nadi.my/event/microsoft-office-terbuka-6/
CATEGORIES:DEFAULT
END:VEVENT
BEGIN:VEVENT
DTSTART;TZID=UTC:20240924T100000
DTEND;TZID=UTC:20240924T120000
DTSTAMP:20260421T065638
CREATED:20240831T190005Z
LAST-MODIFIED:20240831T190005Z
UID:2466-1727172000-1727179200@paritsapran.nadi.my
SUMMARY:Latihan Keusahawanan (Terbuka)
DESCRIPTION:
URL:https://paritsapran.nadi.my/event/latihan-keusahawanan-terbuka-6/
CATEGORIES:DEFAULT
END:VEVENT
BEGIN:VEVENT
DTSTART;TZID=UTC:20240919T110000
DTEND;TZID=UTC:20240919T120000
DTSTAMP:20260421T065638
CREATED:20240831T185926Z
LAST-MODIFIED:20240831T185926Z
UID:2465-1726743600-1726747200@paritsapran.nadi.my
SUMMARY:Canva (Terbuka)
DESCRIPTION:
URL:https://paritsapran.nadi.my/event/canva-terbuka-5/
CATEGORIES:DEFAULT
END:VEVENT
BEGIN:VEVENT
DTSTART;TZID=UTC:20240912T100000
DTEND;TZID=UTC:20240912T120000
DTSTAMP:20260421T065638
CREATED:20240831T185858Z
LAST-MODIFIED:20240831T185858Z
UID:2464-1726135200-1726142400@paritsapran.nadi.my
SUMMARY:Advokasi di PKPDK Sinar Bakti
DESCRIPTION:
URL:https://paritsapran.nadi.my/event/advokasi-di-pkpdk-sinar-bakti-4/
CATEGORIES:DEFAULT
END:VEVENT
BEGIN:VEVENT
DTSTART;TZID=UTC:20240906T093000
DTEND;TZID=UTC:20240906T123000
DTSTAMP:20260421T065638
CREATED:20240831T185825Z
LAST-MODIFIED:20240831T185825Z
UID:2463-1725615000-1725625800@paritsapran.nadi.my
SUMMARY:E-Pembelajaran untuk Sek. Rendah
DESCRIPTION:
URL:https://paritsapran.nadi.my/event/e-pembelajaran-untuk-sek-rendah-3/
CATEGORIES:DEFAULT
END:VEVENT
BEGIN:VEVENT
DTSTART;TZID=UTC:20240904T100000
DTEND;TZID=UTC:20240904T110000
DTSTAMP:20260421T065638
CREATED:20240831T185749Z
LAST-MODIFIED:20240831T185749Z
UID:2462-1725444000-1725447600@paritsapran.nadi.my
SUMMARY:Microsoft Office (Terbuka)
DESCRIPTION:
URL:https://paritsapran.nadi.my/event/microsoft-office-terbuka-5/
CATEGORIES:DEFAULT
END:VEVENT
BEGIN:VEVENT
DTSTART;TZID=UTC:20240824T100000
DTEND;TZID=UTC:20240824T110000
DTSTAMP:20260421T065638
CREATED:20240801T180824Z
LAST-MODIFIED:20240801T180824Z
UID:2461-1724493600-1724497200@paritsapran.nadi.my
SUMMARY:Stem IOT (Terbuka)
DESCRIPTION:
URL:https://paritsapran.nadi.my/event/stem-iot-terbuka-8/
CATEGORIES:DEFAULT
END:VEVENT
BEGIN:VEVENT
DTSTART;TZID=UTC:20240820T150000
DTEND;TZID=UTC:20240820T170000
DTSTAMP:20260421T065638
CREATED:20240801T180717Z
LAST-MODIFIED:20240801T180717Z
UID:2460-1724166000-1724173200@paritsapran.nadi.my
SUMMARY:E-Pembelajaran untuk Sek. Menengah
DESCRIPTION:
URL:https://paritsapran.nadi.my/event/e-pembelajaran-untuk-sek-menengah-6/
CATEGORIES:DEFAULT
END:VEVENT
BEGIN:VEVENT
DTSTART;TZID=UTC:20240815T090000
DTEND;TZID=UTC:20240815T110000
DTSTAMP:20260421T065638
CREATED:20240801T180640Z
LAST-MODIFIED:20240801T180640Z
UID:2459-1723712400-1723719600@paritsapran.nadi.my
SUMMARY:Advokasi di PKPDK Sinar Bakti
DESCRIPTION:
URL:https://paritsapran.nadi.my/event/advokasi-di-pkpdk-sinar-bakti-3/
CATEGORIES:DEFAULT
END:VEVENT
BEGIN:VEVENT
DTSTART;TZID=UTC:20240806T100000
DTEND;TZID=UTC:20240806T110000
DTSTAMP:20260421T065638
CREATED:20240801T180542Z
LAST-MODIFIED:20240801T180542Z
UID:2458-1722938400-1722942000@paritsapran.nadi.my
SUMMARY:Latihan Keusahawanan (Terbuka)
DESCRIPTION:
URL:https://paritsapran.nadi.my/event/latihan-keusahawanan-terbuka-5/
CATEGORIES:DEFAULT
END:VEVENT
BEGIN:VEVENT
DTSTART;TZID=UTC:20240802T100000
DTEND;TZID=UTC:20240802T110000
DTSTAMP:20260421T065638
CREATED:20240801T180334Z
LAST-MODIFIED:20240801T180334Z
UID:2457-1722592800-1722596400@paritsapran.nadi.my
SUMMARY:Microsoft Office (Terbuka)
DESCRIPTION:
URL:https://paritsapran.nadi.my/event/microsoft-office-terbuka-4/
CATEGORIES:DEFAULT
END:VEVENT
BEGIN:VEVENT
DTSTART;TZID=UTC:20240729T110000
DTEND;TZID=UTC:20240729T130000
DTSTAMP:20260421T065638
CREATED:20240707T185016Z
LAST-MODIFIED:20240707T185016Z
UID:2456-1722250800-1722258000@paritsapran.nadi.my
SUMMARY:E-Pembelajaran untuk Sek. Menengah
DESCRIPTION:
URL:https://paritsapran.nadi.my/event/e-pembelajaran-untuk-sek-menengah-5/
CATEGORIES:DEFAULT
END:VEVENT
BEGIN:VEVENT
DTSTART;TZID=UTC:20240719T100000
DTEND;TZID=UTC:20240719T110000
DTSTAMP:20260421T065638
CREATED:20240707T184857Z
LAST-MODIFIED:20240707T184857Z
UID:2454-1721383200-1721386800@paritsapran.nadi.my
SUMMARY:Microsoft Office (Terbuka)
DESCRIPTION:
URL:https://paritsapran.nadi.my/event/microsoft-office-terbuka-3/
CATEGORIES:DEFAULT
END:VEVENT
BEGIN:VEVENT
DTSTART;TZID=UTC:20240708T150000
DTEND;TZID=UTC:20240708T170000
DTSTAMP:20260421T065638
CREATED:20240707T184803Z
LAST-MODIFIED:20240707T184803Z
UID:2453-1720450800-1720458000@paritsapran.nadi.my
SUMMARY:Stem IOT (Terbuka)
DESCRIPTION:
URL:https://paritsapran.nadi.my/event/stem-iot-terbuka-7/
CATEGORIES:DEFAULT
END:VEVENT
BEGIN:VEVENT
DTSTART;TZID=UTC:20240708T080000
DTEND;TZID=UTC:20240708T170000
DTSTAMP:20260421T065638
CREATED:20240707T184927Z
LAST-MODIFIED:20240707T184927Z
UID:2455-1720425600-1720458000@paritsapran.nadi.my
SUMMARY:Canva (Terbuka)
DESCRIPTION:
URL:https://paritsapran.nadi.my/event/canva-terbuka-4/
CATEGORIES:DEFAULT
END:VEVENT
BEGIN:VEVENT
DTSTART;TZID=UTC:20240705T110000
DTEND;TZID=UTC:20240705T120000
DTSTAMP:20260421T065638
CREATED:20240707T184622Z
LAST-MODIFIED:20240707T184622Z
UID:2452-1720177200-1720180800@paritsapran.nadi.my
SUMMARY:Kemahiran Insaniah (Terbuka)
DESCRIPTION:
URL:https://paritsapran.nadi.my/event/kemahiran-insaniah-terbuka-3/
CATEGORIES:DEFAULT
END:VEVENT
BEGIN:VEVENT
DTSTART;TZID=UTC:20240629T110000
DTEND;TZID=UTC:20240629T120000
DTSTAMP:20260421T065638
CREATED:20240531T183323Z
LAST-MODIFIED:20240531T183323Z
UID:2451-1719658800-1719662400@paritsapran.nadi.my
SUMMARY:E-Pembelajaran untuk Sek. Menengah
DESCRIPTION:
URL:https://paritsapran.nadi.my/event/e-pembelajaran-untuk-sek-menengah-4/
CATEGORIES:DEFAULT
END:VEVENT
BEGIN:VEVENT
DTSTART;TZID=UTC:20240627T140000
DTEND;TZID=UTC:20240627T170000
DTSTAMP:20260421T065638
CREATED:20240531T183256Z
LAST-MODIFIED:20240531T183256Z
UID:2450-1719496800-1719507600@paritsapran.nadi.my
SUMMARY:Canva (Terbuka)
DESCRIPTION:
URL:https://paritsapran.nadi.my/event/canva-terbuka-3/
CATEGORIES:DEFAULT
END:VEVENT
END:VCALENDAR