BEGIN:VCALENDAR
VERSION:2.0
PRODID:-//NADI Parit Sapran - ECPv6.15.20//NONSGML v1.0//EN
CALSCALE:GREGORIAN
METHOD:PUBLISH
X-WR-CALNAME:NADI Parit Sapran
X-ORIGINAL-URL:https://paritsapran.nadi.my
X-WR-CALDESC:Events for NADI Parit Sapran
REFRESH-INTERVAL;VALUE=DURATION:PT1H
X-Robots-Tag:noindex
X-PUBLISHED-TTL:PT1H
BEGIN:VTIMEZONE
TZID:Asia/Kuala_Lumpur
BEGIN:STANDARD
TZOFFSETFROM:+0800
TZOFFSETTO:+0800
TZNAME:+08
DTSTART:20240101T000000
END:STANDARD
END:VTIMEZONE
BEGIN:VEVENT
DTSTART;TZID=Asia/Kuala_Lumpur:20250923T143000
DTEND;TZID=Asia/Kuala_Lumpur:20250923T170000
DTSTAMP:20260422T133424
CREATED:20250903T074506Z
LAST-MODIFIED:20250903T074506Z
UID:3143-1758637800-1758646800@paritsapran.nadi.my
SUMMARY:PODCAST NADIPRENEUR; Episod9: Langkah Berani: BersaingdenganGergasiPasaran
DESCRIPTION:
URL:https://paritsapran.nadi.my/event/podcast-nadipreneur-episod9-langkah-berani-bersaingdengangergasipasaran/
END:VEVENT
BEGIN:VEVENT
DTSTART;TZID=Asia/Kuala_Lumpur:20250920T110000
DTEND;TZID=Asia/Kuala_Lumpur:20250920T120000
DTSTAMP:20260422T133424
CREATED:20250903T074545Z
LAST-MODIFIED:20250903T074549Z
UID:3145-1758366000-1758369600@paritsapran.nadi.my
SUMMARY:COHORT 6 KIDVENTURE WEBINAR -OPERASI PERNIAGAAN
DESCRIPTION:
URL:https://paritsapran.nadi.my/event/cohort-6-kidventure-webinar-operasi-perniagaan/
END:VEVENT
BEGIN:VEVENT
DTSTART;TZID=Asia/Kuala_Lumpur:20250920T100000
DTEND;TZID=Asia/Kuala_Lumpur:20250920T113000
DTSTAMP:20260422T133424
CREATED:20250903T075149Z
LAST-MODIFIED:20250903T075149Z
UID:3147-1758362400-1758367800@paritsapran.nadi.my
SUMMARY:Robotics Class
DESCRIPTION:
URL:https://paritsapran.nadi.my/event/robotics-class/
END:VEVENT
BEGIN:VEVENT
DTSTART;TZID=Asia/Kuala_Lumpur:20250916T100000
DTEND;TZID=Asia/Kuala_Lumpur:20250916T120000
DTSTAMP:20260422T133424
CREATED:20250903T072456Z
LAST-MODIFIED:20250903T072456Z
UID:3141-1758016800-1758024000@paritsapran.nadi.my
SUMMARY:PODCAST EMPOWHER; Episod9: Bual Kombucha: Inspirasidi SebalikRasa
DESCRIPTION:
URL:https://paritsapran.nadi.my/event/podcast-empowher-episod9-bual-kombucha-inspirasidi-sebalikrasa/
END:VEVENT
BEGIN:VEVENT
DTSTART;TZID=Asia/Kuala_Lumpur:20250911T100000
DTEND;TZID=Asia/Kuala_Lumpur:20250911T120000
DTSTAMP:20260422T133424
CREATED:20250903T072414Z
LAST-MODIFIED:20250903T072414Z
UID:3139-1757584800-1757592000@paritsapran.nadi.my
SUMMARY:COHORT 5 NADIPRENEUR & EMPOWHER 01 WEBINAR 1 ; 02 VIDEO PRA LATIHAN
DESCRIPTION:
URL:https://paritsapran.nadi.my/event/cohort-5-nadipreneur-02-video-pra-latihan/
END:VEVENT
BEGIN:VEVENT
DTSTART;TZID=Asia/Kuala_Lumpur:20250906T090000
DTEND;TZID=Asia/Kuala_Lumpur:20250906T100000
DTSTAMP:20260422T133424
CREATED:20250903T072244Z
LAST-MODIFIED:20250903T072244Z
UID:3137-1757149200-1757152800@paritsapran.nadi.my
SUMMARY:COHORT5 KIDVENTURE WEBINAR -PEMASARAN
DESCRIPTION:
URL:https://paritsapran.nadi.my/event/cohort5-kidventure-webinar-pemasaran/
END:VEVENT
BEGIN:VEVENT
DTSTART;TZID=Asia/Kuala_Lumpur:20250829T100000
DTEND;TZID=Asia/Kuala_Lumpur:20250829T120000
DTSTAMP:20260422T133424
CREATED:20250801T021051Z
LAST-MODIFIED:20250801T021051Z
UID:3097-1756461600-1756468800@paritsapran.nadi.my
SUMMARY:Guna Telegram Channel untuk Promosi & Komuniti
DESCRIPTION:
URL:https://paritsapran.nadi.my/event/guna-telegram-channel-untuk-promosi-komuniti-2/
END:VEVENT
BEGIN:VEVENT
DTSTART;TZID=Asia/Kuala_Lumpur:20250822T150000
DTEND;TZID=Asia/Kuala_Lumpur:20250822T170000
DTSTAMP:20260422T133424
CREATED:20250801T021003Z
LAST-MODIFIED:20250801T021003Z
UID:3095-1755874800-1755882000@paritsapran.nadi.my
SUMMARY:Celik Siber: Kenal Pasti Laman Web & Iklan Palsu
DESCRIPTION:
URL:https://paritsapran.nadi.my/event/celik-siber-kenal-pasti-laman-web-iklan-palsu-2/
END:VEVENT
BEGIN:VEVENT
DTSTART;TZID=Asia/Kuala_Lumpur:20250809T113000
DTEND;TZID=Asia/Kuala_Lumpur:20250809T123000
DTSTAMP:20260422T133424
CREATED:20250801T020915Z
LAST-MODIFIED:20250801T020915Z
UID:3093-1754739000-1754742600@paritsapran.nadi.my
SUMMARY:Menulis Caption & Ayat Iklan Menjual di Media Sosial
DESCRIPTION:
URL:https://paritsapran.nadi.my/event/menulis-caption-ayat-iklan-menjual-di-media-sosial-2/
END:VEVENT
BEGIN:VEVENT
DTSTART;TZID=Asia/Kuala_Lumpur:20250805T100000
DTEND;TZID=Asia/Kuala_Lumpur:20250805T110000
DTSTAMP:20260422T133424
CREATED:20250801T020718Z
LAST-MODIFIED:20250801T020802Z
UID:3088-1754388000-1754391600@paritsapran.nadi.my
SUMMARY:Guna WhatsApp Business Secara Efektif untuk Niaga
DESCRIPTION:
URL:https://paritsapran.nadi.my/event/reka-logo-kad-nama-digital-guna-canva-2/
END:VEVENT
BEGIN:VEVENT
DTSTART;TZID=Asia/Kuala_Lumpur:20250802T100000
DTEND;TZID=Asia/Kuala_Lumpur:20250802T110000
DTSTAMP:20260422T133424
CREATED:20250801T020839Z
LAST-MODIFIED:20250801T020839Z
UID:3091-1754128800-1754132400@paritsapran.nadi.my
SUMMARY:Reka Logo & Kad Nama Digital Guna Canva
DESCRIPTION:
URL:https://paritsapran.nadi.my/event/reka-logo-kad-nama-digital-guna-canva-3/
END:VEVENT
BEGIN:VEVENT
DTSTART;TZID=Asia/Kuala_Lumpur:20250729T160000
DTEND;TZID=Asia/Kuala_Lumpur:20250729T170000
DTSTAMP:20260422T133424
CREATED:20250703T031944Z
LAST-MODIFIED:20250703T031944Z
UID:3055-1753804800-1753808400@paritsapran.nadi.my
SUMMARY:Cipta e-Resume / Portfolio Digital Guna Google Sites
DESCRIPTION:
URL:https://paritsapran.nadi.my/event/cipta-e-resume-portfolio-digital-guna-google-sites/
END:VEVENT
BEGIN:VEVENT
DTSTART;TZID=Asia/Kuala_Lumpur:20250726T100000
DTEND;TZID=Asia/Kuala_Lumpur:20250726T120000
DTSTAMP:20260422T133424
CREATED:20250703T031917Z
LAST-MODIFIED:20250703T031917Z
UID:3053-1753524000-1753531200@paritsapran.nadi.my
SUMMARY:Guna Telegram Channel untuk Promosi & Komuniti
DESCRIPTION:
URL:https://paritsapran.nadi.my/event/guna-telegram-channel-untuk-promosi-komuniti/
END:VEVENT
BEGIN:VEVENT
DTSTART;TZID=Asia/Kuala_Lumpur:20250722T100000
DTEND;TZID=Asia/Kuala_Lumpur:20250722T110000
DTSTAMP:20260422T133424
CREATED:20250703T031849Z
LAST-MODIFIED:20250703T031849Z
UID:3051-1753178400-1753182000@paritsapran.nadi.my
SUMMARY:Celik Siber: Kenal Pasti Laman Web & Iklan Palsu
DESCRIPTION:
URL:https://paritsapran.nadi.my/event/celik-siber-kenal-pasti-laman-web-iklan-palsu/
END:VEVENT
BEGIN:VEVENT
DTSTART;TZID=Asia/Kuala_Lumpur:20250719T143000
DTEND;TZID=Asia/Kuala_Lumpur:20250719T163000
DTSTAMP:20260422T133424
CREATED:20250703T031800Z
LAST-MODIFIED:20250703T031800Z
UID:3049-1752935400-1752942600@paritsapran.nadi.my
SUMMARY:Bina Borang Tempahan Produk (Order Form)
DESCRIPTION:
URL:https://paritsapran.nadi.my/event/bina-borang-tempahan-produk-order-form/
END:VEVENT
BEGIN:VEVENT
DTSTART;TZID=Asia/Kuala_Lumpur:20250716T150000
DTEND;TZID=Asia/Kuala_Lumpur:20250716T170000
DTSTAMP:20260422T133424
CREATED:20250703T031718Z
LAST-MODIFIED:20250703T031718Z
UID:3047-1752678000-1752685200@paritsapran.nadi.my
SUMMARY:Rekod Jualan Harian & Stok Guna Google Sheet
DESCRIPTION:
URL:https://paritsapran.nadi.my/event/rekod-jualan-harian-stok-guna-google-sheet/
END:VEVENT
BEGIN:VEVENT
DTSTART;TZID=Asia/Kuala_Lumpur:20250713T143000
DTEND;TZID=Asia/Kuala_Lumpur:20250713T153000
DTSTAMP:20260422T133424
CREATED:20250703T031651Z
LAST-MODIFIED:20250703T031651Z
UID:3045-1752417000-1752420600@paritsapran.nadi.my
SUMMARY:Buat Linktree untuk Gabung Semua Link Sosial Anda
DESCRIPTION:
URL:https://paritsapran.nadi.my/event/buat-linktree-untuk-gabung-semua-link-sosial-anda/
END:VEVENT
BEGIN:VEVENT
DTSTART;TZID=Asia/Kuala_Lumpur:20250711T110000
DTEND;TZID=Asia/Kuala_Lumpur:20250711T120000
DTSTAMP:20260422T133424
CREATED:20250703T031418Z
LAST-MODIFIED:20250703T031418Z
UID:3043-1752231600-1752235200@paritsapran.nadi.my
SUMMARY:Guna WhatsApp Business Secara Efektif untuk Niaga
DESCRIPTION:
URL:https://paritsapran.nadi.my/event/guna-whatsapp-business-secara-efektif-untuk-niaga/
END:VEVENT
BEGIN:VEVENT
DTSTART;TZID=Asia/Kuala_Lumpur:20250709T143000
DTEND;TZID=Asia/Kuala_Lumpur:20250709T163000
DTSTAMP:20260422T133424
CREATED:20250703T031324Z
LAST-MODIFIED:20250703T031324Z
UID:3041-1752071400-1752078600@paritsapran.nadi.my
SUMMARY:Menulis Caption & Ayat Iklan Menjual di Media Sosial
DESCRIPTION:
URL:https://paritsapran.nadi.my/event/menulis-caption-ayat-iklan-menjual-di-media-sosial/
END:VEVENT
BEGIN:VEVENT
DTSTART;TZID=Asia/Kuala_Lumpur:20250705T100000
DTEND;TZID=Asia/Kuala_Lumpur:20250705T110000
DTSTAMP:20260422T133424
CREATED:20250703T031151Z
LAST-MODIFIED:20250703T031151Z
UID:3039-1751709600-1751713200@paritsapran.nadi.my
SUMMARY:Asas Edit Video Guna CapCut (HP & PC)
DESCRIPTION:
URL:https://paritsapran.nadi.my/event/asas-edit-video-guna-capcut-hp-pc/
END:VEVENT
BEGIN:VEVENT
DTSTART;TZID=Asia/Kuala_Lumpur:20250703T120000
DTEND;TZID=Asia/Kuala_Lumpur:20250703T130000
DTSTAMP:20260422T133424
CREATED:20250703T031101Z
LAST-MODIFIED:20250703T031101Z
UID:3037-1751544000-1751547600@paritsapran.nadi.my
SUMMARY:Reka Logo & Kad Nama Digital Guna Canva
DESCRIPTION:Belajar buat logo perniagaan\, kad nama digital dan identiti visual jenama anda sendiri secara mudah dan percuma.
URL:https://paritsapran.nadi.my/event/reka-logo-kad-nama-digital-guna-canva/
END:VEVENT
BEGIN:VEVENT
DTSTART;TZID=Asia/Kuala_Lumpur:20250625T090000
DTEND;TZID=Asia/Kuala_Lumpur:20250625T100000
DTSTAMP:20260422T133424
CREATED:20250606T084948Z
LAST-MODIFIED:20250606T084948Z
UID:2997-1750842000-1750845600@paritsapran.nadi.my
SUMMARY:Kelas Adobe Photoshop
DESCRIPTION:
URL:https://paritsapran.nadi.my/event/kelas-adobe-photoshop-12/
END:VEVENT
BEGIN:VEVENT
DTSTART;TZID=Asia/Kuala_Lumpur:20250618T100000
DTEND;TZID=Asia/Kuala_Lumpur:20250618T110000
DTSTAMP:20260422T133424
CREATED:20250606T084734Z
LAST-MODIFIED:20250606T084734Z
UID:2995-1750240800-1750244400@paritsapran.nadi.my
SUMMARY:Canva (Terbuka)
DESCRIPTION:
URL:https://paritsapran.nadi.my/event/canva-terbuka-10/
END:VEVENT
BEGIN:VEVENT
DTSTART;TZID=Asia/Kuala_Lumpur:20250612T140000
DTEND;TZID=Asia/Kuala_Lumpur:20250612T170000
DTSTAMP:20260422T133424
CREATED:20250606T084627Z
LAST-MODIFIED:20250606T084627Z
UID:2993-1749736800-1749747600@paritsapran.nadi.my
SUMMARY:Latihan Keusahawanan (Terbuka)
DESCRIPTION:
URL:https://paritsapran.nadi.my/event/latihan-keusahawanan-terbuka-10/
END:VEVENT
BEGIN:VEVENT
DTSTART;TZID=Asia/Kuala_Lumpur:20250610T100000
DTEND;TZID=Asia/Kuala_Lumpur:20250610T110000
DTSTAMP:20260422T133424
CREATED:20250606T084525Z
LAST-MODIFIED:20250606T084525Z
UID:2991-1749549600-1749553200@paritsapran.nadi.my
SUMMARY:Microsoft Office (Terbuka)
DESCRIPTION:
URL:https://paritsapran.nadi.my/event/microsoft-office-terbuka-11/
END:VEVENT
BEGIN:VEVENT
DTSTART;TZID=Asia/Kuala_Lumpur:20250607T090000
DTEND;TZID=Asia/Kuala_Lumpur:20250607T120000
DTSTAMP:20260422T133424
CREATED:20250606T082611Z
LAST-MODIFIED:20250606T082613Z
UID:2989-1749286800-1749297600@paritsapran.nadi.my
SUMMARY:Komuniti Madani
DESCRIPTION:
URL:https://paritsapran.nadi.my/event/komuniti-madani-3/
END:VEVENT
BEGIN:VEVENT
DTSTART;TZID=Asia/Kuala_Lumpur:20250528T150000
DTEND;TZID=Asia/Kuala_Lumpur:20250528T170000
DTSTAMP:20260422T133424
CREATED:20250502T040127Z
LAST-MODIFIED:20250502T040127Z
UID:2948-1748444400-1748451600@paritsapran.nadi.my
SUMMARY:CANVA TERBUKA
DESCRIPTION:
URL:https://paritsapran.nadi.my/event/canva-terbuka-9/
END:VEVENT
BEGIN:VEVENT
DTSTART;TZID=Asia/Kuala_Lumpur:20250517T090000
DTEND;TZID=Asia/Kuala_Lumpur:20250517T120000
DTSTAMP:20260422T133424
CREATED:20250502T040048Z
LAST-MODIFIED:20250502T040048Z
UID:2946-1747472400-1747483200@paritsapran.nadi.my
SUMMARY:KOMUNITI MADANI
DESCRIPTION:
URL:https://paritsapran.nadi.my/event/komuniti-madani-2/
END:VEVENT
BEGIN:VEVENT
DTSTART;TZID=Asia/Kuala_Lumpur:20250514T110000
DTEND;TZID=Asia/Kuala_Lumpur:20250514T120000
DTSTAMP:20260422T133424
CREATED:20250502T035941Z
LAST-MODIFIED:20250502T035941Z
UID:2944-1747220400-1747224000@paritsapran.nadi.my
SUMMARY:MICROSOFT OFFICE TERBUKA
DESCRIPTION:MICRO
URL:https://paritsapran.nadi.my/event/microsoft-office-terbuka-10/
END:VEVENT
BEGIN:VEVENT
DTSTART;TZID=Asia/Kuala_Lumpur:20250511T100000
DTEND;TZID=Asia/Kuala_Lumpur:20250511T110000
DTSTAMP:20260422T133424
CREATED:20250502T035745Z
LAST-MODIFIED:20250502T035745Z
UID:2940-1746957600-1746961200@paritsapran.nadi.my
SUMMARY:KELAS ADOBE PHOTOSHOP
DESCRIPTION:
URL:https://paritsapran.nadi.my/event/kelas-adobe-photoshop-11/
END:VEVENT
END:VCALENDAR