BEGIN:VCALENDAR
VERSION:2.0
PRODID:-//NADI Parit Sapran - ECPv6.15.20//NONSGML v1.0//EN
CALSCALE:GREGORIAN
METHOD:PUBLISH
X-WR-CALNAME:NADI Parit Sapran
X-ORIGINAL-URL:https://paritsapran.nadi.my
X-WR-CALDESC:Events for NADI Parit Sapran
REFRESH-INTERVAL;VALUE=DURATION:PT1H
X-Robots-Tag:noindex
X-PUBLISHED-TTL:PT1H
BEGIN:VTIMEZONE
TZID:Asia/Kuala_Lumpur
BEGIN:STANDARD
TZOFFSETFROM:+0800
TZOFFSETTO:+0800
TZNAME:+08
DTSTART:20250101T000000
END:STANDARD
END:VTIMEZONE
BEGIN:VEVENT
DTSTART;TZID=Asia/Kuala_Lumpur:20260112T100000
DTEND;TZID=Asia/Kuala_Lumpur:20260112T110000
DTSTAMP:20260420T131116
CREATED:20260102T032851Z
LAST-MODIFIED:20260102T032851Z
UID:3385-1768212000-1768215600@paritsapran.nadi.my
SUMMARY:WEBINAR BERKALA SAINS EDISI 1 TINGKATAN 1- 5
DESCRIPTION:
URL:https://paritsapran.nadi.my/event/webinar-berkala-sains-edisi-1-tingkatan-1-5-4/
END:VEVENT
END:VCALENDAR